BEGIN:VCALENDAR
VERSION:2.0
PRODID:-//Slingan - ECPv6.15.20//NONSGML v1.0//EN
CALSCALE:GREGORIAN
METHOD:PUBLISH
X-WR-CALNAME:Slingan
X-ORIGINAL-URL:https://slingan.se
X-WR-CALDESC:Events for Slingan
REFRESH-INTERVAL;VALUE=DURATION:PT1H
X-Robots-Tag:noindex
X-PUBLISHED-TTL:PT1H
BEGIN:VTIMEZONE
TZID:Europe/Stockholm
BEGIN:DAYLIGHT
TZOFFSETFROM:+0100
TZOFFSETTO:+0200
TZNAME:CEST
DTSTART:20250330T010000
END:DAYLIGHT
BEGIN:STANDARD
TZOFFSETFROM:+0200
TZOFFSETTO:+0100
TZNAME:CET
DTSTART:20251026T010000
END:STANDARD
BEGIN:DAYLIGHT
TZOFFSETFROM:+0100
TZOFFSETTO:+0200
TZNAME:CEST
DTSTART:20260329T010000
END:DAYLIGHT
BEGIN:STANDARD
TZOFFSETFROM:+0200
TZOFFSETTO:+0100
TZNAME:CET
DTSTART:20261025T010000
END:STANDARD
BEGIN:DAYLIGHT
TZOFFSETFROM:+0100
TZOFFSETTO:+0200
TZNAME:CEST
DTSTART:20270328T010000
END:DAYLIGHT
BEGIN:STANDARD
TZOFFSETFROM:+0200
TZOFFSETTO:+0100
TZNAME:CET
DTSTART:20271031T010000
END:STANDARD
END:VTIMEZONE
BEGIN:VEVENT
DTSTART;TZID=Europe/Stockholm:20260301T130000
DTEND;TZID=Europe/Stockholm:20260301T220000
DTSTAMP:20260419T202040
CREATED:20260223T060940Z
LAST-MODIFIED:20260223T060940Z
UID:4004-1772370000-1772402400@slingan.se
SUMMARY:Sunday Funday v9
DESCRIPTION:
URL:https://slingan.se/event/sunday-funday-v9/
LOCATION:Slingan\, Nicoloviusgatan 8A\, Malmö\, 217 57\, Sweden
CATEGORIES:Brädspelssöndag
ORGANIZER;CN="Ola":MAILTO:ola@focusshift.se
END:VEVENT
BEGIN:VEVENT
DTSTART;TZID=Europe/Stockholm:20260329T130000
DTEND;TZID=Europe/Stockholm:20260329T190000
DTSTAMP:20260419T202040
CREATED:20260324T213333Z
LAST-MODIFIED:20260324T213333Z
UID:4369-1774789200-1774810800@slingan.se
SUMMARY:Sunday Funday v13
DESCRIPTION:
URL:https://slingan.se/event/sunday-funday-v13/
LOCATION:Slingan\, Nicoloviusgatan 8A\, Malmö\, 217 57\, Sweden
CATEGORIES:Brädspelssöndag
ORGANIZER;CN="Ola":MAILTO:ola@focusshift.se
END:VEVENT
END:VCALENDAR